BEGIN:VCALENDAR
METHOD:REQUEST
PRODID:Microsoft Exchange Server 2010
VERSION:2.0
BEGIN:VTIMEZONE
TZID:(UTC+01:00) Amsterdam\, Berlin\, Bern\, Rome\, Stockholm\, Vienna
BEGIN:STANDARD
DTSTART:16010101T030000
TZOFFSETFROM:+0200
TZOFFSETTO:+0100
RRULE:FREQ=YEARLY;INTERVAL=1;BYDAY=-1SU;BYMONTH=10
END:STANDARD
BEGIN:DAYLIGHT
DTSTART:16010101T020000
TZOFFSETFROM:+0100
TZOFFSETTO:+0200
RRULE:FREQ=YEARLY;INTERVAL=1;BYDAY=-1SU;BYMONTH=3
END:DAYLIGHT
END:VTIMEZONE
BEGIN:VEVENT
ORGANIZER;CN="Hermanns, Marc-André":MAILTO:Hermanns@itc.rwth-aachen.de
ATTENDEE;ROLE=REQ-PARTICIPANT;PARTSTAT=NEEDS-ACTION;RSVP=TRUE;CN=MPI Forum 
 - Tools WG:MAILTO:mpiwg-tools@lists.mpi-forum.org
DESCRIPTION;LANGUAGE=en-GB:This is a placeholder for the missing calendar e
 ntry.\n\nToday\, the meeting is still at 10 am CT (Central Time)\, and 4 p
 m CET (Central European Time)\, until I created a new calendar entry with 
 the correct timezone info.\n\nhttps://github.com/mpiwg-tools/mpi-standard/
 wiki/Meeting-Information\n
UID:040000008200E00074C5B7101A82E00800000000EA3EE221D4BADC01000000000000000
 0100000007207C2331AA55845811A6EA5B70CC331
SUMMARY;LANGUAGE=en-GB:MPI Tools WG Call (Debgging Topics)
DTSTART;TZID="(UTC+01:00) Amsterdam, Berlin, Bern, Rome, Stockholm, Vienna":2
 0260323T160000
DTEND;TZID="(UTC+01:00) Amsterdam, Berlin, Bern, Rome, Stockholm, Vienna":202
 60323T170000
CLASS:PUBLIC
PRIORITY:5
DTSTAMP:20260323T144838Z
TRANSP:OPAQUE
STATUS:CONFIRMED
SEQUENCE:0
LOCATION;LANGUAGE=en-GB:
X-MICROSOFT-CDO-APPT-SEQUENCE:0
X-MICROSOFT-CDO-OWNERAPPTID:2124659690
X-MICROSOFT-CDO-BUSYSTATUS:TENTATIVE
X-MICROSOFT-CDO-INTENDEDSTATUS:BUSY
X-MICROSOFT-CDO-ALLDAYEVENT:FALSE
X-MICROSOFT-CDO-IMPORTANCE:1
X-MICROSOFT-CDO-INSTTYPE:0
X-MICROSOFT-DONOTFORWARDMEETING:FALSE
X-MICROSOFT-DISALLOW-COUNTER:FALSE
BEGIN:VALARM
DESCRIPTION:REMINDER
TRIGGER;RELATED=START:-PT15M
ACTION:DISPLAY
END:VALARM
END:VEVENT
END:VCALENDAR
